BEGIN:VCALENDAR
VERSION:2.0
PRODID:-//BCB Schweiz - ECPv6.15.17.1//NONSGML v1.0//EN
CALSCALE:GREGORIAN
METHOD:PUBLISH
X-ORIGINAL-URL:https://www.bcb-schweiz.ch
X-WR-CALDESC:Veranstaltungen für BCB Schweiz
REFRESH-INTERVAL;VALUE=DURATION:PT1H
X-Robots-Tag:noindex
X-PUBLISHED-TTL:PT1H
BEGIN:VTIMEZONE
TZID:Europe/Berlin
BEGIN:DAYLIGHT
TZOFFSETFROM:+0100
TZOFFSETTO:+0200
TZNAME:CEST
DTSTART:20200329T010000
END:DAYLIGHT
BEGIN:STANDARD
TZOFFSETFROM:+0200
TZOFFSETTO:+0100
TZNAME:CET
DTSTART:20201025T010000
END:STANDARD
BEGIN:DAYLIGHT
TZOFFSETFROM:+0100
TZOFFSETTO:+0200
TZNAME:CEST
DTSTART:20210328T010000
END:DAYLIGHT
BEGIN:STANDARD
TZOFFSETFROM:+0200
TZOFFSETTO:+0100
TZNAME:CET
DTSTART:20211031T010000
END:STANDARD
BEGIN:DAYLIGHT
TZOFFSETFROM:+0100
TZOFFSETTO:+0200
TZNAME:CEST
DTSTART:20220327T010000
END:DAYLIGHT
BEGIN:STANDARD
TZOFFSETFROM:+0200
TZOFFSETTO:+0100
TZNAME:CET
DTSTART:20221030T010000
END:STANDARD
END:VTIMEZONE
BEGIN:VEVENT
DTSTART;TZID=Europe/Berlin:20210618T093000
DTEND;TZID=Europe/Berlin:20210620T163000
DTSTAMP:20260424T212330
CREATED:20161115T095951Z
LAST-MODIFIED:20200701T121756Z
UID:10000042-1624008600-1624206600@www.bcb-schweiz.ch
SUMMARY:Selbsterfahrungsseminar Familienrekonstruktion
DESCRIPTION:Familienrekonstruktion und Familienstellen\nDas Selbsterfahrungsseminar stärkt die eigene Position und lässt innere Regeln bewusster werden. Die Methode des Familienstellens schafft Einsicht in tradierte Muster und hilft\, damit einhergehende Spannungen zu begreifen sowie eigene Stärken besser zu nutzen. Wer seine Familiengeschichte betrachtet und sich mit sich selbst und der eigenen Prägung auseinandersetzt\, versteht sich selber besser und erkennt Einflüsse der eigenen Person auf andere. Daraus erwächst die Chance\, neue Verhaltensweisen zu entwickeln. \nTeilnahmevoraussetzung: Interesse\, sich mit sich selber und seiner Biographie auseinander zu setzen. Stabile Persönlichkeit. Einerseits ist das Seminar Bestandteil der Ausbildung in Beratender Seelsorge bcb\, andererseits ist es auch als persönliche Weiterbildung für Personen aus seelsorgerlichen oder sozialen Berufen und für weitere Interessierte geeignet. \nAnmeldeschluss: 31. März 2021 (Platzzahl beschränkt auf 7 Personen) \nKosten: exkl. Unterkunft und Verpflegung\nKursort: Hotel Ländli\, Oberägeri \nDas Seminar wird im Selbst- und Fernstudium vorbereitet. \nANMELDEN
URL:https://www.bcb-schweiz.ch/kurs/brs-se-2021/
LOCATION:Oberägeri\, Im Ländli 16\, Oberägeri\, 6315\, Schweiz
CATEGORIES:BRS Seminare,Kursdaten & Anmeldung,Seminare
ATTACH;FMTTYPE=image/jpeg:https://www.bcb-schweiz.ch/wp-content/uploads/2015/10/Holzfiguren-e1445259946879.jpg
GEO:47.1300741;8.6312203
X-APPLE-STRUCTURED-LOCATION;VALUE=URI;X-ADDRESS=Oberägeri Im Ländli 16 Oberägeri 6315 Schweiz;X-APPLE-RADIUS=500;X-TITLE=Im Ländli 16:geo:8.6312203,47.1300741
END:VEVENT
END:VCALENDAR