BEGIN:VCALENDAR
VERSION:2.0
PRODID:-//BCB Schweiz - ECPv6.15.17.1//NONSGML v1.0//EN
CALSCALE:GREGORIAN
METHOD:PUBLISH
X-WR-CALNAME:BCB Schweiz
X-ORIGINAL-URL:https://www.bcb-schweiz.ch
X-WR-CALDESC:Veranstaltungen für BCB Schweiz
REFRESH-INTERVAL;VALUE=DURATION:PT1H
X-Robots-Tag:noindex
X-PUBLISHED-TTL:PT1H
BEGIN:VTIMEZONE
TZID:Europe/Berlin
BEGIN:DAYLIGHT
TZOFFSETFROM:+0100
TZOFFSETTO:+0200
TZNAME:CEST
DTSTART:20210328T010000
END:DAYLIGHT
BEGIN:STANDARD
TZOFFSETFROM:+0200
TZOFFSETTO:+0100
TZNAME:CET
DTSTART:20211031T010000
END:STANDARD
BEGIN:DAYLIGHT
TZOFFSETFROM:+0100
TZOFFSETTO:+0200
TZNAME:CEST
DTSTART:20220327T010000
END:DAYLIGHT
BEGIN:STANDARD
TZOFFSETFROM:+0200
TZOFFSETTO:+0100
TZNAME:CET
DTSTART:20221030T010000
END:STANDARD
BEGIN:DAYLIGHT
TZOFFSETFROM:+0100
TZOFFSETTO:+0200
TZNAME:CEST
DTSTART:20230326T010000
END:DAYLIGHT
BEGIN:STANDARD
TZOFFSETFROM:+0200
TZOFFSETTO:+0100
TZNAME:CET
DTSTART:20231029T010000
END:STANDARD
END:VTIMEZONE
BEGIN:VEVENT
DTSTART;TZID=Europe/Berlin:20220218T130000
DTEND;TZID=Europe/Berlin:20220218T204500
DTSTAMP:20260424T051553
CREATED:20210212T105620Z
LAST-MODIFIED:20230124T210801Z
UID:10000062-1645189200-1645217100@www.bcb-schweiz.ch
SUMMARY:Wenn die Seele weint... - Webinar zum Thema Depressionen
DESCRIPTION:Neue Wege und Botschaften von Depressionen\nLaut WHO ist die Depression die Volksseuche des 21. Jahrhunderts. Ängste und Depressionen zählen zu den häufigsten und zu den meist unterschätzten Erkrankungen und Folgewirkungen der Corona-Pandemie. Es wird nur ungefähr die Hälfte aller Depressionen erkannt. Die Hälfte davon bleibt unbehandelt. Bis zu einer fachgerechten Behandlung vergehen im Durchschnitt sieben Jahre. Das Webinar zum Thema „Wenn die Seele weint…“ richtet sich an alle\, die seelsorgerlich mit betroffenen Menschen unterwegs sind (Begleiter/innen\, Berater/innen\, Pastoren\, in sozialen Berufen usw.). Der Studientag gibt Einblick in die belastende Erkrankung und vermittelt Hilfestellung für die Begleitung von Betroffenen und Angehörigen. Ziel ist es\, dass Menschen – und gerade auch an Depression Leidende – resilienter\, selbstbestimmter und selbstbewusster werden. Schliesslich ist Depression kein schicksalhaftes Geschehen\, sondern auch eine persönliche Botschaft der eigenen Seele. Sie will verstanden und ganzheitlich ins Leben integriert werden. \nDieser Studientag wird online angeboten (Zoom). \nInhalte \n\nMerkmale einer Depression\nFrüherkennung und präventive Massnahmen\nHilfen in der Depression\nBetroffene und Angehörige\nDepression und Glaube\nReflexion eigener Erfahrungen\n\nHIER ANMELDEN
URL:https://www.bcb-schweiz.ch/kurs/wenn-die-seele-weint/
LOCATION:Online\, Schweiz
CATEGORIES:Seminare
ATTACH;FMTTYPE=image/jpeg:https://www.bcb-schweiz.ch/wp-content/uploads/2021/02/storm-4688918_1920.jpg
END:VEVENT
END:VCALENDAR