BEGIN:VCALENDAR
VERSION:2.0
PRODID:-//BCB Schweiz - ECPv6.15.17.1//NONSGML v1.0//EN
CALSCALE:GREGORIAN
METHOD:PUBLISH
X-ORIGINAL-URL:https://www.bcb-schweiz.ch
X-WR-CALDESC:Veranstaltungen für BCB Schweiz
REFRESH-INTERVAL;VALUE=DURATION:PT1H
X-Robots-Tag:noindex
X-PUBLISHED-TTL:PT1H
BEGIN:VTIMEZONE
TZID:Europe/Berlin
BEGIN:DAYLIGHT
TZOFFSETFROM:+0100
TZOFFSETTO:+0200
TZNAME:CEST
DTSTART:20210328T010000
END:DAYLIGHT
BEGIN:STANDARD
TZOFFSETFROM:+0200
TZOFFSETTO:+0100
TZNAME:CET
DTSTART:20211031T010000
END:STANDARD
BEGIN:DAYLIGHT
TZOFFSETFROM:+0100
TZOFFSETTO:+0200
TZNAME:CEST
DTSTART:20220327T010000
END:DAYLIGHT
BEGIN:STANDARD
TZOFFSETFROM:+0200
TZOFFSETTO:+0100
TZNAME:CET
DTSTART:20221030T010000
END:STANDARD
BEGIN:DAYLIGHT
TZOFFSETFROM:+0100
TZOFFSETTO:+0200
TZNAME:CEST
DTSTART:20230326T010000
END:DAYLIGHT
BEGIN:STANDARD
TZOFFSETFROM:+0200
TZOFFSETTO:+0100
TZNAME:CET
DTSTART:20231029T010000
END:STANDARD
END:VTIMEZONE
BEGIN:VEVENT
DTSTART;TZID=Europe/Berlin:20221124T093000
DTEND;TZID=Europe/Berlin:20221124T093000
DTSTAMP:20260423T130752
CREATED:20190617T123923Z
LAST-MODIFIED:20230802T141522Z
UID:10000045-1669282200-1669282200@www.bcb-schweiz.ch
SUMMARY:Fortbildung Eheberatung (9 Tage) *abgesagt*
DESCRIPTION:Fortbildung in 3 Teilen: 24. bis 26. November 2023 und 26. bis 28. Januar 2024 plus 3 Supervisionstage (12.01./08.03./15.04.2024) \nDie Arbeit mit Paaren ist komplex: Einerseits sind es zwei Persönlichkeiten\, zwei Biographien und eine spezifische Psychodynamik zwischen den Partnern. Andererseits gibt es meist eine starke Bindungsgeschichte als Ressource\, die das Paar zusammenhalten kann – trotz enttäuschender Verletzungen. Manche können den Weg zur Heirat nicht abschließen und scheitern schon vorher an Bindungsproblemen. Die Teilnahme an dieser 120 LE umfassenden Fortbildung ermöglicht den Erwerb spezifischer Kompetenzen für die Eheberatung. Hier eine Auswahl der Inhalte: Grundverständnis der Ehe als „Institution“ – Beziehungsdynamik des Paares – Diagnostisches Verständnis von Beziehungskrisen – Tools zur praktischen Eheberatung: Kommunikation\, Konfliktlösungsstrategien – Sexuelle Probleme und Ansätze zur Bewältigung – Paarstress und Coping – Erziehungsfragen – Ethische Fragen zu Scheidung und Wiederheirat – Supervision der Praxiserfahrungen \nDidaktik:\n• Wissensvermittlung: Input\n• praxisbezogen: Vermittlung von Tools und Üben in Kleingruppen\n• Supervision: supportiv und kasuistisch\n• Lernzielkontrolle durch Kolloquium in der Gruppe\n• Selbststudium Fachliteratur \nVom ACC – Association of Christian Counsellors zertifizierte Weiterbildung. \nVoraussetzungen: Abgeschlossene oder fortgeschrittene Ausbildung in Beratung (ACC Level II) \nUmfang: 120 LE. Die beiden Kursblöcke 24.-26.11.2023 und 26.-28.01.2024 und die Supervision (12.01./08.03./15.04.2024) bauen aufeinander auf und können nur als Gesamtes gebucht werden. \nKurskosten: CHF 1800.00 (zahlbar in 2 Raten). Die Kurskosten verstehen sich für alle 9 Tage\, exkl. Unterkunft und Verpflegung.\nAnmeldeschluss: 30.09.2023 \nUnterkunft und Verpflegung: Hotel Ländli\, Oberägeri (im Kurspreis nicht inbegriffen) \nHier ANMELDEN für alle 9 Tage
URL:https://www.bcb-schweiz.ch/kurs/fortbildung-eheberatung/
LOCATION:Oberägeri\, Im Ländli 16\, Oberägeri\, 6315\, Schweiz
CATEGORIES:Seminare
ATTACH;FMTTYPE=image/jpeg:https://www.bcb-schweiz.ch/wp-content/uploads/2019/06/Eheberatung2.jpg
GEO:47.1300741;8.6312203
X-APPLE-STRUCTURED-LOCATION;VALUE=URI;X-ADDRESS=Oberägeri Im Ländli 16 Oberägeri 6315 Schweiz;X-APPLE-RADIUS=500;X-TITLE=Im Ländli 16:geo:8.6312203,47.1300741
END:VEVENT
END:VCALENDAR