BEGIN:VCALENDAR
VERSION:2.0
PRODID:-//BCB Schweiz - ECPv6.15.17.1//NONSGML v1.0//EN
CALSCALE:GREGORIAN
METHOD:PUBLISH
X-WR-CALNAME:BCB Schweiz
X-ORIGINAL-URL:https://www.bcb-schweiz.ch
X-WR-CALDESC:Veranstaltungen für BCB Schweiz
REFRESH-INTERVAL;VALUE=DURATION:PT1H
X-Robots-Tag:noindex
X-PUBLISHED-TTL:PT1H
BEGIN:VTIMEZONE
TZID:UTC
BEGIN:STANDARD
TZOFFSETFROM:+0000
TZOFFSETTO:+0000
TZNAME:UTC
DTSTART:20220101T000000
END:STANDARD
END:VTIMEZONE
BEGIN:VEVENT
DTSTART;TZID=UTC:20230211T083000
DTEND;TZID=UTC:20230311T123000
DTSTAMP:20260423T081548
CREATED:20220822T064227Z
LAST-MODIFIED:20221121T164948Z
UID:10000052-1676104200-1678537800@www.bcb-schweiz.ch
SUMMARY:Webinar: Positive Psychologie - Ressource für Beratung & Seelsorge
DESCRIPTION:Positive Psychologie – Ressource für Beratung & Seelsorge \nBei diesem Webinar in zwei Teilen lernen Sie die theoretischen Grundlagen der Positiven Psychologie kennen. Dabei erhalten Sie Einblicke in verschiedene Studienergebnisse u.a. zum Thema Vergebung\, Stärken und Dankbarkeit – Lebensweisen die wir bereits in der Bibel beschrieben finden und die Wissenschaft neu als hilfreich und heilsam entdeckt. Sie lernen verschiedene Interventionen aus der Positiven Psychologie kennen und für die Seelsorgepraxis anwenden. Dabei wird es auch viel Raum geben für das persönliche Ausprobieren und Erfahren. \n  \nLernziele: \n\nKennen und verstehen der Entstehungsgeschichte der Positiven Psychologie\nKennen und anwenden von Interventionen der Positiven Psychologie in der Seelsorge-/Beraterpraxis\nIntegration der Positiven Psychologie in das Schemamodell der Schematherapie\nErleben und Erfahren von Interventionen aus der Positiven Psychologie\n\n14 LE \n  \nZielpublikum: \nBerater/innen\, Seelsorger/innen und andere Fachpersonen im psychosozialen Bereich. \n  \nDaten und Durchführung: \nSamstag\, 11. Februar und Samstag\, 11. März 2023\, 8.30 – 12.30h\nZwischen den Kursvormittagen gibt es praktische Übungen zur Umsetzung des Gelernten (Zeitbedarf ca. 10 Min. pro Tag).\nOnline (Zoom) \n  \nKursleitung: \nMadeleine Rytz ist Mutter von zwei Töchtern und lebt als Teil einer Wohngemeinschaft im Wohnpark St. Chrischona in Bettingen. Als Sozialpädagogin und Schemapädagogin engagiert sie sich für Eltern und Kinder mit besonderem Anliegen für Erziehungsfragen und bietet Weiterbildungen in Schemapädagogik an. Sie arbeitet selbständig in den Bereichen Bildung\, Beratung und Prävention (www.madeleinerytz.ch) sowie als Sozialpädagogin auf der Jugendstation im Untersuchungsgefängnis. Mit Leidenschaft setzt sie sich für das Gelingen von Beziehungen ein. \n  \nAnmeldeschluss: \n12. Januar 2023 (spätere Anmeldungen bei freien Plätzen möglich\, Zuschlag CHF 20.00) \n  \nHIER ANMELDEN
URL:https://www.bcb-schweiz.ch/kurs/positive-psychologie/
LOCATION:Online\, Schweiz
CATEGORIES:Seminare
END:VEVENT
END:VCALENDAR