BEGIN:VCALENDAR
VERSION:2.0
PRODID:-//BCB Schweiz - ECPv6.15.17.1//NONSGML v1.0//EN
CALSCALE:GREGORIAN
METHOD:PUBLISH
X-ORIGINAL-URL:https://www.bcb-schweiz.ch
X-WR-CALDESC:Veranstaltungen für BCB Schweiz
REFRESH-INTERVAL;VALUE=DURATION:PT1H
X-Robots-Tag:noindex
X-PUBLISHED-TTL:PT1H
BEGIN:VTIMEZONE
TZID:Europe/Berlin
BEGIN:DAYLIGHT
TZOFFSETFROM:+0100
TZOFFSETTO:+0200
TZNAME:CEST
DTSTART:20220327T010000
END:DAYLIGHT
BEGIN:STANDARD
TZOFFSETFROM:+0200
TZOFFSETTO:+0100
TZNAME:CET
DTSTART:20221030T010000
END:STANDARD
BEGIN:DAYLIGHT
TZOFFSETFROM:+0100
TZOFFSETTO:+0200
TZNAME:CEST
DTSTART:20230326T010000
END:DAYLIGHT
BEGIN:STANDARD
TZOFFSETFROM:+0200
TZOFFSETTO:+0100
TZNAME:CET
DTSTART:20231029T010000
END:STANDARD
BEGIN:DAYLIGHT
TZOFFSETFROM:+0100
TZOFFSETTO:+0200
TZNAME:CEST
DTSTART:20240331T010000
END:DAYLIGHT
BEGIN:STANDARD
TZOFFSETFROM:+0200
TZOFFSETTO:+0100
TZNAME:CET
DTSTART:20241027T010000
END:STANDARD
END:VTIMEZONE
BEGIN:VEVENT
DTSTART;VALUE=DATE:20230421
DTEND;VALUE=DATE:20230422
DTSTAMP:20260423T050551
CREATED:20150702T142733Z
LAST-MODIFIED:20230124T210406Z
UID:10000025-1682035200-1682121599@www.bcb-schweiz.ch
SUMMARY:Grundkurs Lebenskompetenz - St. Gallen 2023
DESCRIPTION:Grundkurs Lebenskompetenz – St. Gallen 2023\nKursinhalt\nSie lernen die Grundlagen einer ganzheitlichen Seelsorge kennen.\nSie trainieren Kompetenzen\, um gelingendes Leben zu fördern.\nSie setzen sich mit Ihrer Persönlichkeit\, Ihrem Erleben\, Ihrer Gottesbeziehung und Ihrer Art zu kommunizieren auseinander.\nSie erhalten praktische Impulse für das eigene Leben und die persönliche Alltagsbewältigung.\nDetails zum Inhalt \nDaten\nDer Grundkurs Lebenskompetenz besteht aus 3 Teilen\, welche an folgenden Daten durchgeführt werden:\n21. – 22. April 2023 | 02. – 03. Juni 2023 | 16. – 17. Juni 2023 \nZeiten\nFreitag jeweils 13:30 – 21:00 Uhr\nSamstag jeweils von 09:00 – 17:30 Uhr \nKurspreis\nEinzelperson CHF 740.-\nzusätzlich CHF 50.- pro Person für Auswertung Persönlichkeitstest\nEhepaare pro Person CHF 75.– Ermässigung \nAnmelden
URL:https://www.bcb-schweiz.ch/kurs/grundkurs-st-gallen-2023/
LOCATION:GvC St-Gallen\, Stahlstrasse 7\, St. Gallen\, 9000\, Schweiz
CATEGORIES:Grundkurse,Kursdaten & Anmeldung
ATTACH;FMTTYPE=image/jpeg:https://www.bcb-schweiz.ch/wp-content/uploads/2021/06/bcb-grundkurs-lebenskompetenz-veranstaltung.jpg
GEO:47.4211493;9.3561889
X-APPLE-STRUCTURED-LOCATION;VALUE=URI;X-ADDRESS=GvC St-Gallen Stahlstrasse 7 St. Gallen 9000 Schweiz;X-APPLE-RADIUS=500;X-TITLE=Stahlstrasse 7:geo:9.3561889,47.4211493
END:VEVENT
END:VCALENDAR