BEGIN:VCALENDAR
VERSION:2.0
PRODID:-//BCB Schweiz - ECPv6.15.17.1//NONSGML v1.0//EN
CALSCALE:GREGORIAN
METHOD:PUBLISH
X-WR-CALNAME:BCB Schweiz
X-ORIGINAL-URL:https://www.bcb-schweiz.ch
X-WR-CALDESC:Veranstaltungen für BCB Schweiz
REFRESH-INTERVAL;VALUE=DURATION:PT1H
X-Robots-Tag:noindex
X-PUBLISHED-TTL:PT1H
BEGIN:VTIMEZONE
TZID:Europe/Berlin
BEGIN:DAYLIGHT
TZOFFSETFROM:+0100
TZOFFSETTO:+0200
TZNAME:CEST
DTSTART:20220327T010000
END:DAYLIGHT
BEGIN:STANDARD
TZOFFSETFROM:+0200
TZOFFSETTO:+0100
TZNAME:CET
DTSTART:20221030T010000
END:STANDARD
BEGIN:DAYLIGHT
TZOFFSETFROM:+0100
TZOFFSETTO:+0200
TZNAME:CEST
DTSTART:20230326T010000
END:DAYLIGHT
BEGIN:STANDARD
TZOFFSETFROM:+0200
TZOFFSETTO:+0100
TZNAME:CET
DTSTART:20231029T010000
END:STANDARD
BEGIN:DAYLIGHT
TZOFFSETFROM:+0100
TZOFFSETTO:+0200
TZNAME:CEST
DTSTART:20240331T010000
END:DAYLIGHT
BEGIN:STANDARD
TZOFFSETFROM:+0200
TZOFFSETTO:+0100
TZNAME:CET
DTSTART:20241027T010000
END:STANDARD
END:VTIMEZONE
BEGIN:VEVENT
DTSTART;VALUE=DATE:20230915
DTEND;VALUE=DATE:20230916
DTSTAMP:20260422T202426
CREATED:20150702T142733Z
LAST-MODIFIED:20241115T095726Z
UID:10000026-1694736000-1694822399@www.bcb-schweiz.ch
SUMMARY:Grundkurs Brunnen Herbst 2023
DESCRIPTION:Kursinhalt\nSie lernen die Grundlagen einer ganzheitlichen Seelsorge kennen.\nSie trainieren Kompetenzen\, um gelingendes Leben zu fördern.\nSie setzen sich mit Ihrer Persönlichkeit\, Ihrem Erleben\, Ihrer Gottesbeziehung und Ihrer Art zu kommunizieren auseinander.\nSie erhalten praktische Impulse für das eigene Leben und die persönliche Alltagsbewältigung.\nDetails zum Inhalt \n\nDaten\nDer Grundkurs besteht aus 6 Tagen.\nFr\, 15. / Sa\, 16. September 2023\nFr\, 27. / Sa\, 28. Oktober 2023\nFr\, 17. / Sa\, 18. November 2023 \nZeiten\nFreitag jeweils 13:30 – 21:00 Uhr\nSamstag jeweils von 09:00 – 17:30 Uhr \nKurspreis (für alle 6 Tage)\nEinzelperson CHF 740.-\nzusätzlich CHF 50.- pro Person für Auswertung Persönlichkeitstest\nEhepaare pro Person CHF 75.– Ermässigung \nAnmeldeschluss: 1 Monat vor Kursbeginn (spätere Anmeldung bei freien Plätzen möglich\, Zuschlag CHF 20) \nANMELDEN
URL:https://www.bcb-schweiz.ch/kurs/gk-herbst23/
LOCATION:Ref. Kirchgemeindehaus Brunnen\, Alte Kantonsstrasse 8a\, Brunnen\, SZ\, 6440\, Schweiz
CATEGORIES:Grundkurse,Kursdaten & Anmeldung
ATTACH;FMTTYPE=image/jpeg:https://www.bcb-schweiz.ch/wp-content/uploads/2021/06/bcb-grundkurs-lebenskompetenz-veranstaltung.jpg
END:VEVENT
BEGIN:VEVENT
DTSTART;TZID=Europe/Berlin:20230921T090000
DTEND;TZID=Europe/Berlin:20230923T180000
DTSTAMP:20260422T202426
CREATED:20160315T144828Z
LAST-MODIFIED:20220919T061757Z
UID:10000038-1695286800-1695492000@www.bcb-schweiz.ch
SUMMARY:BGS1 Kommunikation\, Winterthur 2023
DESCRIPTION:Kommunikation \nHilfreiche Gespräche brauchen eine Atmosphäre\, die von Anteilnahme\, Wärme und persönlichem Wohlwollen geprägt ist. Das Seminar vermittelt Kenntnisse von Kommunikationsprozessen\, erarbeitet die Grundhaltung für die seelsorgerliche Gesprächsführung und erläutert Aspekte von Kommunikation und Gefühlserleben. Übungen in Kleingruppen. \nANMELDEN
URL:https://www.bcb-schweiz.ch/kurs/bgs1-kommunikation-winterthur-2023/
LOCATION:Zentrum Grüze\, Winterthur\, Industriestrasse 1\, Winterthur\, ZH\, 8404\, Schweiz
CATEGORIES:BGS Seminare,Kursdaten & Anmeldung
END:VEVENT
END:VCALENDAR