BEGIN:VCALENDAR
VERSION:2.0
PRODID:-//BCB Schweiz - ECPv6.15.17.1//NONSGML v1.0//EN
CALSCALE:GREGORIAN
METHOD:PUBLISH
X-ORIGINAL-URL:https://www.bcb-schweiz.ch
X-WR-CALDESC:Veranstaltungen für BCB Schweiz
REFRESH-INTERVAL;VALUE=DURATION:PT1H
X-Robots-Tag:noindex
X-PUBLISHED-TTL:PT1H
BEGIN:VTIMEZONE
TZID:UTC
BEGIN:STANDARD
TZOFFSETFROM:+0000
TZOFFSETTO:+0000
TZNAME:UTC
DTSTART:20220101T000000
END:STANDARD
END:VTIMEZONE
BEGIN:VEVENT
DTSTART;TZID=UTC:20231021T093000
DTEND;TZID=UTC:20231021T170000
DTSTAMP:20260422T185317
CREATED:20220822T070917Z
LAST-MODIFIED:20230616T112920Z
UID:10000012-1697880600-1697907600@www.bcb-schweiz.ch
SUMMARY:An der Seite von Trauernden - Trauerbegleitung
DESCRIPTION:An der Seite von Trauernden – Trauerbegleitung\n\n«Trauern dient nicht dazu\, den Verlust zu überwinden\, sondern hilft\, ihn anzunehmen.» \nDer Verlust eines geliebten Menschen verändert für Angehörige und Freunde nicht nur die Welt\, sondern auch sie selbst. Wir sagen dann von der betroffenen Person: Sie ist in Trauer! Trauer meint dabei nicht nur das Gefühl «Traurigkeit»\, sondern einen Prozess\, in den die trauernde Person hineingestellt wurde. Es ist der Weg\, auf dem sie schrittweise lernt\, den Verlust so in ihr Leben zu integrieren\, dass auch wieder Raum für neue Lebenserfahrungen entstehen. Wie dieser Weg gestaltet wird\, ist sehr individuell. \nInhaltliche Schwerpunkte: \n\nWas zum Trauerprozess gehört (sog. Trauerphasen)\nUnser Körper in der Trauer\nTrauer bei Eltern beim Verlust eines Kindes\nBesonderheiten bei Trauer nach Suizid\nHinweise auf Literatur und Hilfsmittel\n\nZiel des Seminars ist es\, Verständnis zu schaffen für das Trauern und Hilfen an die Hand zu geben\, wie trauernde Menschen unterstützt werden können. Fragen von Teilnehmenden haben Platz. \n  \nZielpublikum/Voraussetzungen: \nBegleitende und Beratende Seelsorger/innen. Es wird an die Kenntnisse von BGS 3 – Krisenbewältigung angeknüpft. \n  \nKursleitung: \nMonika Riwar\, Pfrn.; Ausbildnerin beim bcb\, Psychosoziale Beraterin HFP\nMilena Stoll\, Familienfrau\, Begleitende Seelsorgerin bcb\, Familientrauerbegleiterin \n  \nHIER ANMELDEN
URL:https://www.bcb-schweiz.ch/kurs/trauerbegleitung/
LOCATION:EMK Aarau\, Effingerweg 2\, Aarau\, 5000\, Schweiz
CATEGORIES:Seminare
END:VEVENT
END:VCALENDAR