BEGIN:VCALENDAR
VERSION:2.0
PRODID:-//BCB Schweiz - ECPv6.15.17.1//NONSGML v1.0//EN
CALSCALE:GREGORIAN
METHOD:PUBLISH
X-WR-CALNAME:BCB Schweiz
X-ORIGINAL-URL:https://www.bcb-schweiz.ch
X-WR-CALDESC:Veranstaltungen für BCB Schweiz
REFRESH-INTERVAL;VALUE=DURATION:PT1H
X-Robots-Tag:noindex
X-PUBLISHED-TTL:PT1H
BEGIN:VTIMEZONE
TZID:Europe/Berlin
BEGIN:DAYLIGHT
TZOFFSETFROM:+0100
TZOFFSETTO:+0200
TZNAME:CEST
DTSTART:20230326T010000
END:DAYLIGHT
BEGIN:STANDARD
TZOFFSETFROM:+0200
TZOFFSETTO:+0100
TZNAME:CET
DTSTART:20231029T010000
END:STANDARD
BEGIN:DAYLIGHT
TZOFFSETFROM:+0100
TZOFFSETTO:+0200
TZNAME:CEST
DTSTART:20240331T010000
END:DAYLIGHT
BEGIN:STANDARD
TZOFFSETFROM:+0200
TZOFFSETTO:+0100
TZNAME:CET
DTSTART:20241027T010000
END:STANDARD
BEGIN:DAYLIGHT
TZOFFSETFROM:+0100
TZOFFSETTO:+0200
TZNAME:CEST
DTSTART:20250330T010000
END:DAYLIGHT
BEGIN:STANDARD
TZOFFSETFROM:+0200
TZOFFSETTO:+0100
TZNAME:CET
DTSTART:20251026T010000
END:STANDARD
END:VTIMEZONE
BEGIN:VEVENT
DTSTART;VALUE=DATE:20241011
DTEND;VALUE=DATE:20241014
DTSTAMP:20260419T224950
CREATED:20230505T120748Z
LAST-MODIFIED:20250903T065252Z
UID:10000068-1728604800-1728863999@www.bcb-schweiz.ch
SUMMARY:Selbsterfahrungsseminar Familienrekonstruktion Oktober 2024 *ausgebucht*
DESCRIPTION:Familienrekonstruktion und Familienstellen\nDas Selbsterfahrungsseminar stärkt die eigene Position und lässt innere Regeln bewusster werden. Die Methode des Familienstellens schafft Einsicht in tradierte Muster und hilft\, damit einhergehende Spannungen zu begreifen sowie eigene Stärken besser zu nutzen. Wer seine Familiengeschichte betrachtet und sich mit sich selbst und der eigenen Prägung auseinandersetzt\, versteht sich selber besser und erkennt Einflüsse der eigenen Person auf andere. Daraus erwächst die Chance\, neue Verhaltensweisen zu entwickeln. \nTeilnahmevoraussetzung: Interesse\, sich mit sich selber und seiner Biographie auseinander zu setzen. Stabile Persönlichkeit. Einerseits ist das Seminar Bestandteil der Ausbildung in Beratender Seelsorge bcb\, andererseits ist es auch als persönliche Weiterbildung für Personen aus seelsorgerlichen oder sozialen Berufen und für weitere Interessierte geeignet. \nAnmeldeschluss: 1. Juli 2024 \nSeminarzeiten: Beginn 1. Tag um 09:30 Uhr / Ende letzter Tag um 16:30 Uhr\, mit Abendeinheiten von 19:15 bis 21:30 Uhr \nKosten: exkl. Unterkunft und Verpflegung \nDas Seminar wird im Selbst- und Fernstudium vorbereitet. \nANMELDEN
URL:https://www.bcb-schweiz.ch/kurs/selbsterfahrungsseminar-familienrekonstruktion-2024-okt/
LOCATION:Praxis Christina Stalder\, Rüchligweg 101\, 4125 Riehen\, Rüchligweg 101\, Riehen\, 4125\, Schweiz
CATEGORIES:BRS Seminare,Kursdaten & Anmeldung
GEO:46.7477133;7.6677949
X-APPLE-STRUCTURED-LOCATION;VALUE=URI;X-ADDRESS=Praxis Christina Stalder Rüchligweg 101 4125 Riehen Rüchligweg 101 Riehen 4125 Schweiz;X-APPLE-RADIUS=500;X-TITLE=Rüchligweg 101:geo:7.6677949,46.7477133
END:VEVENT
END:VCALENDAR