BEGIN:VCALENDAR
VERSION:2.0
PRODID:-//BCB Schweiz - ECPv6.15.17.1//NONSGML v1.0//EN
CALSCALE:GREGORIAN
METHOD:PUBLISH
X-WR-CALNAME:BCB Schweiz
X-ORIGINAL-URL:https://www.bcb-schweiz.ch
X-WR-CALDESC:Veranstaltungen für BCB Schweiz
REFRESH-INTERVAL;VALUE=DURATION:PT1H
X-Robots-Tag:noindex
X-PUBLISHED-TTL:PT1H
BEGIN:VTIMEZONE
TZID:Europe/Berlin
BEGIN:DAYLIGHT
TZOFFSETFROM:+0100
TZOFFSETTO:+0200
TZNAME:CEST
DTSTART:20230326T010000
END:DAYLIGHT
BEGIN:STANDARD
TZOFFSETFROM:+0200
TZOFFSETTO:+0100
TZNAME:CET
DTSTART:20231029T010000
END:STANDARD
BEGIN:DAYLIGHT
TZOFFSETFROM:+0100
TZOFFSETTO:+0200
TZNAME:CEST
DTSTART:20240331T010000
END:DAYLIGHT
BEGIN:STANDARD
TZOFFSETFROM:+0200
TZOFFSETTO:+0100
TZNAME:CET
DTSTART:20241027T010000
END:STANDARD
BEGIN:DAYLIGHT
TZOFFSETFROM:+0100
TZOFFSETTO:+0200
TZNAME:CEST
DTSTART:20250330T010000
END:DAYLIGHT
BEGIN:STANDARD
TZOFFSETFROM:+0200
TZOFFSETTO:+0100
TZNAME:CET
DTSTART:20251026T010000
END:STANDARD
END:VTIMEZONE
BEGIN:VEVENT
DTSTART;TZID=Europe/Berlin:20241102T091500
DTEND;TZID=Europe/Berlin:20241102T171500
DTSTAMP:20260419T210520
CREATED:20231204T124602Z
LAST-MODIFIED:20241021T072639Z
UID:10000076-1730538900-1730567700@www.bcb-schweiz.ch
SUMMARY:Pornosucht - Begleitung von Betroffenen auf dem Weg in die Freiheit
DESCRIPTION:Ein Angebot in Zusammenarbeit mit dem SWK – Schweizerischen Weissen Kreuz\n \nBefähigung von Seelsorger/innen und Berater/innen für die Begleitung und Beratung von pornosüchtigen Männern und Frauen\, die Hilfe bei einem Ausstieg aus der Sucht suchen. Förderung der Sprachfähigkeit im kirchlichen Kontext. \nINHALT UND LERNZIELE \nPlenum (Vormittag) mit Tabea Freitag (Referat) und Christian Jungo (Praktische Blitzlichter):\n* Belohnungssystem\, psychosoziale Attraktoren und Dynamik bei exzessivem Pornografiekonsum\n* Das Wesen und Wirkungen pornografischer Sexualität\n* Dynamik einer Sucht und ihre Auswirkungen\n* Was ist anders als bei anderen Süchten (Scham\, Ausbeutungsaspekt etc.) \nAm Nachmittag kann zwischen zwei Schwerpunkten ausgewählt werden: \nA Begleitung und Beratung von Betroffenen und Angehörigen\, Ausstieg aus der Sucht\nmit Christian Jungo und Tabea Freitag\n* Sie lernen\, wie Sie Betroffene beim Ausstieg aus der Sucht hilfreich begleiten können.\n* Sie verstehen\, welche Unterstützung Angehörige von Pornografiesüchtigen brauchen. \nB Pornografie und Sexualität in kirchlichen Gruppen thematisieren\nmit Matthias Bischofberger\n* Sie entdecken\, wie Kirchen zu einem Ort werden können\, an dem über Sexualität und Schwierigkeiten gesprochen werden kann.\nDer Referent teilt seine Praxiserfahrung aus zehn Jahren sexualpädagogischen Workshops und Schulungen in Kirchen. Es werden Methoden besprochen und ausprobiert\, hilfreiche Haltungen vor der Gruppe erläutert und den Umgang mit heissen Eisen besprochen. \n  \nZielpublikum:\nBerater/innen im psychosozialen Bereich\nBegleitende/ehrenamtliche Seelsorger/innen\nPastoren und weitere Verantwortliche in Gemeinden und Kirchen \nKurskosten:\nFrühbucherpreis CHF 135 bei Anmeldung bis 31.07.2024\nCHF 165 bei Anmeldung ab 01.08.2024\ninkl. Kursunterlagen und kleine Pausenverpflegung\, ohne Mittagessen\nAnmeldeschluss 25. Oktober 2024 \nDownload Flyer \nHIER ANMELDEN
URL:https://www.bcb-schweiz.ch/kurs/pornosucht/
LOCATION:Heilsarmee Aarau\, Asylstrasse 34\, Aarau\, 5000\, Schweiz
CATEGORIES:Seminare
END:VEVENT
BEGIN:VEVENT
DTSTART;VALUE=DATE:20241109
DTEND;VALUE=DATE:20241110
DTSTAMP:20260419T210520
CREATED:20151208T133544Z
LAST-MODIFIED:20240517T124518Z
UID:10000037-1731110400-1731196799@www.bcb-schweiz.ch
SUMMARY:Grundkurs Lebenskompetenz Zürich\, Nov 2024 - März 2025
DESCRIPTION:Grundkurs Lebenskompetenz Zürich\, Nov 2024 – März 2025\nKursinhalt\nSie lernen die Grundlagen einer ganzheitlichen Seelsorge kennen.\nSie trainieren Kompetenzen\, um gelingendes Leben zu fördern.\nSie setzen sich mit Ihrer Persönlichkeit\, Ihrem Erleben\, Ihrer Gottesbeziehung und Ihrer Art zu kommunizieren auseinander.\nSie erhalten praktische Impulse für das eigene Leben und die persönliche Alltagsbewältigung.\nDetails zum Inhalt \n\nDaten\nDer Grundkurs besteht aus 6 Tagen.\n09.11.24 | 07.12.24 | 11.01.25 | 08.02.25 | 01.03.25 | 29.03.25\njeweils Samstag \nZeiten\n09:00 – 17:00 Uhr \nKurspreis (für alle 6 Tage)\nEinzelperson CHF 750.00 neu inkl. Persönlichkeitstest\nErmässigung Ehepaare CHF 75.00 pro Person – Rabattcode: GKPAAR \nAnmelden
URL:https://www.bcb-schweiz.ch/kurs/gk-zuerich-2024/
LOCATION:EMK Zelthof Zürich\, Zeltweg 20\, Zürich\, ZH\, 8032\, Schweiz
CATEGORIES:Grundkurse,Kursdaten & Anmeldung
ATTACH;FMTTYPE=image/jpeg:https://www.bcb-schweiz.ch/wp-content/uploads/2021/06/bcb-grundkurs-lebenskompetenz-veranstaltung.jpg
END:VEVENT
BEGIN:VEVENT
DTSTART;VALUE=DATE:20241118
DTEND;VALUE=DATE:20241130
DTSTAMP:20260419T210520
CREATED:20150814T150346Z
LAST-MODIFIED:20230530T130735Z
UID:10000032-1731888000-1732924799@www.bcb-schweiz.ch
SUMMARY:BRS7 - Didaktik und Präsentation
DESCRIPTION:Beratende SeelsorgerInnen sind durch Vermittlung von Informationen über Lebensthemen und entsprechender Schulungsangebote auch präventiv aktiv. Das Seminar gibt technische und didaktische Hilfen zur Durchführung von präventiven Veranstaltungen und fördert die soziale Kompetenz durch praktische Übungen. \n18. – 19. November 2024   Grundlagenseminar in Oberägeri \n28./29. November 2024    Präsentation eines kleinen Referats in Aarau (Kleingruppe)\nReserviere dir beide Tage\, du wirst aber nur 1 Tag im Einsatz stehen. Die Zuteilung erfolgt durch die Kursleitung. \nANMELDEN
URL:https://www.bcb-schweiz.ch/kurs/brs-7-didaktik-und-praesentation/
LOCATION:Oberägeri\, Im Ländli 16\, Oberägeri\, 6315\, Schweiz
CATEGORIES:BRS Seminare,Kursdaten & Anmeldung
GEO:47.1300741;8.6312203
X-APPLE-STRUCTURED-LOCATION;VALUE=URI;X-ADDRESS=Oberägeri Im Ländli 16 Oberägeri 6315 Schweiz;X-APPLE-RADIUS=500;X-TITLE=Im Ländli 16:geo:8.6312203,47.1300741
END:VEVENT
BEGIN:VEVENT
DTSTART;TZID=Europe/Berlin:20241123T090000
DTEND;TZID=Europe/Berlin:20241123T121500
DTSTAMP:20260419T210520
CREATED:20230913T062109Z
LAST-MODIFIED:20240207T104450Z
UID:10000075-1732352400-1732364100@www.bcb-schweiz.ch
SUMMARY:Online-Workshop: Entdecke die Kraft der Emotionen
DESCRIPTION:Emotionen sind Gottes Geschenk an dich\, damit dein Leben besser gelingen kann. \nMöchtest du Emotionen besser verstehen und lernen\, wie du sie als wertvolle Ressource nutzen kannst? \nIn diesem Workshop… \n… lernst du\, wie du deine Emotionen besser erkennen\, wahrnehmen und differenzierter ausdrücken kannst. \n… erkennst du die Funktion und den Nutzen von Emotionen und wie sie dir helfen\, souveräner im Alltag zu reagieren. \n… erhältst du praktische Tools\, damit du deinen Emotionen nicht ausgeliefert bist\, sondern sie besser steuern\, beeinflussen und gezielt einsetzen kannst. \n  \nZum Video mit Esther Nogler \nHIER ANMELDEN
URL:https://www.bcb-schweiz.ch/kurs/emotionen/
LOCATION:Online\, Schweiz
CATEGORIES:Kursdaten & Anmeldung,Seminare
END:VEVENT
END:VCALENDAR