BEGIN:VCALENDAR
VERSION:2.0
PRODID:-//BCB Schweiz - ECPv6.15.17.1//NONSGML v1.0//EN
CALSCALE:GREGORIAN
METHOD:PUBLISH
X-ORIGINAL-URL:https://www.bcb-schweiz.ch
X-WR-CALDESC:Veranstaltungen für BCB Schweiz
REFRESH-INTERVAL;VALUE=DURATION:PT1H
X-Robots-Tag:noindex
X-PUBLISHED-TTL:PT1H
BEGIN:VTIMEZONE
TZID:Europe/Berlin
BEGIN:DAYLIGHT
TZOFFSETFROM:+0100
TZOFFSETTO:+0200
TZNAME:CEST
DTSTART:20240331T010000
END:DAYLIGHT
BEGIN:STANDARD
TZOFFSETFROM:+0200
TZOFFSETTO:+0100
TZNAME:CET
DTSTART:20241027T010000
END:STANDARD
BEGIN:DAYLIGHT
TZOFFSETFROM:+0100
TZOFFSETTO:+0200
TZNAME:CEST
DTSTART:20250330T010000
END:DAYLIGHT
BEGIN:STANDARD
TZOFFSETFROM:+0200
TZOFFSETTO:+0100
TZNAME:CET
DTSTART:20251026T010000
END:STANDARD
BEGIN:DAYLIGHT
TZOFFSETFROM:+0100
TZOFFSETTO:+0200
TZNAME:CEST
DTSTART:20260329T010000
END:DAYLIGHT
BEGIN:STANDARD
TZOFFSETFROM:+0200
TZOFFSETTO:+0100
TZNAME:CET
DTSTART:20261025T010000
END:STANDARD
END:VTIMEZONE
BEGIN:VEVENT
DTSTART;TZID=Europe/Berlin:20250113T180000
DTEND;TZID=Europe/Berlin:20250113T211500
DTSTAMP:20260419T172122
CREATED:20210622T135841Z
LAST-MODIFIED:20241230T134355Z
UID:10000054-1736791200-1736802900@www.bcb-schweiz.ch
SUMMARY:Webinar: Arbeiten mit Gruppen *abgesagt*
DESCRIPTION:Absolvent/innen des BRS-Lehrgangs von bcb kennen förderliche Strategien zur Lebensbewältigung und verfügen über Kenntnisse zu strukturiertem und zielorientiertem Vorgehen in der Beratung. Persönliche Entwicklungsprozesse können neben Einzelberatung auch in Gruppenformaten angeregt und begleitet werden. Die Teilnehmenden profitieren dabei von der Kraft der Gruppe. \nGruppenleiter/innen haben die herausfordernde Aufgabe\, gleichzeitig die sachliche wie auch die emotionale Ebene des Gruppengeschehens zu beobachten und zu steuern. Moderations- und Interventionstechniken sind dazu wichtig. \nAufbauend auf dem Modul BRS 7 bietet Monica Kunz ein Webinar für die Arbeit mit Gruppen an. \nInhalte: \n\nModeration: Aufgaben des Moderators/der Moderatorin\, Methoden\, Ziele\nArbeit mit Gruppen: Sachphasen und Gruppenphasen steuern\, Interventionstechniken\nGruppenangebote konzipieren und anbieten\nFragerunde\n\nVoraussetzung: Kursmodul BRS7 (Grundlagen Didaktik und Präsentation) besucht \nHIER ANMELDEN
URL:https://www.bcb-schweiz.ch/kurs/arbeiten-mit-gruppen/
LOCATION:Online\, Schweiz
CATEGORIES:Seminare
END:VEVENT
BEGIN:VEVENT
DTSTART;TZID=Europe/Berlin:20250124T090000
DTEND;TZID=Europe/Berlin:20250124T170000
DTSTAMP:20260419T172122
CREATED:20240702T114444Z
LAST-MODIFIED:20240805T121412Z
UID:10000082-1737709200-1737738000@www.bcb-schweiz.ch
SUMMARY:Online-Studientag Angst und Angststörung
DESCRIPTION:Ängste gehören mitunter zu den qualvollsten Leiden überhaupt\, gleichzeitig sind Ängste eine gesunde Reaktion auf bedrohliche Situationen. Die Intensität macht den Unterschied: Habe ich Angst oder hat die Angst mich? \nDas Seminar beschäftigt sich mit der gesunden und wichtigen Funktion von Ängsten\, die eingeblendet und wahrgenommen werden wollen\, und den destruktiven Auswirkungen von übermächtigen Angstzuständen. Wege mit und aus Angststörungen heraus werden erarbeitet und praxisorientiert umgesetzt. \nDas Seminar befähigt zu einem realistischen und wertvollen Umgang mit eigenen Ängsten. Im Sinne Jesu: «In der Welt habt ihr Angst\, aber seid getrost\, ich habe die Welt überwunden.» \nVoraussetzungen: Das Seminar steht allen Interessierten offen. \nHIER ANMELDEN
URL:https://www.bcb-schweiz.ch/kurs/studientag-angst/
LOCATION:Online\, Schweiz
CATEGORIES:Seminare
ATTACH;FMTTYPE=image/jpeg:https://www.bcb-schweiz.ch/wp-content/uploads/2021/02/storm-4688918_1920.jpg
END:VEVENT
END:VCALENDAR